Workbook
Name Print_Area: 'Carte Identité'!$A$1:$L$55
Name Print_Area: 'dépenses de personnel'!$A$1:$M$39
Name Print_Area: 'hors bilan'!$A$1:$H$60
Name Print_Area: 'Recettes budgétaires ordinaires'!$A$1:$L$67
Name Print_Area: 'Résultat Budgétaire'!$A$1:$L$63

Sheet Macro-commandes
A1: ='Carte Identité'!A1 -> SYNTHESE ANALYTIQUE | C1: Administration communale de:
A3: Gestion informatique du document. | B3: Commandes :
A5: Cliquez sur la commande>>>
C7: Enregistré

Sheet Coordonnées
A1: SYNTHÈSE ANALYTIQUE | B1: Administration communale de | C1: YVOIR | D1: Code INS | E1: 91141
D2: Exercice: | E2: 2023
A3: Modèle officiel généré par l'application eComptes © SPW Intérieur et Action Sociale | D3: Version: | E3: 4.02
A5: Commune de :
A6: Adresse de l'administration: | B6: Rue de l'Hôtel de ville 1
B7: 5530 YVOIR
A10: Adresse du site internet: | B10: yvoir.be
A12: Directeur Général: | B12: Joëlle LECOCQ
A13: Tél: | B13: 082 610330
A14: Fax: | B14: 082 610311
A15: Email: | B15: joelle.lecocq@yvoir.be
A17: Directeur Financier: | B17: Danièle MATHIEU
A18: Tél: | B18: 082 610348
A19: Fax: | B19: 082 610311
A20: Email: | B20: receveur@yvoir.be
A22: Service des Finances, personne de contact:

Sheet Feuil1

Sheet Table des matières
A1: SYNTHESE ANALYTIQUE | C1: Administration communale de: | F1: =Coordonnées!C1 -> YVOIR | H1: Code INS | I1: =Coordonnées!E1 -> 91141
H2: Exercice: | I2: =Coordonnées!E2 -> 2023
B4: Table des matières
A5: 1 | B5: Tableau de bord général de la commune
C6: 1-a: Carte d'identité de la commune
C7: 1-b: Evolution des résultats bugétaires ordinaires
A8: 2 | B8: Evolution des principales données budgétaires
C9: 2-1: Recettes et dépenses ordinaires et taux de réalisation du budget
C10: 2-2: Les recettes ordinaires
C11: 2-3: Les dépenses ordinaires
C12: 2-4: Les dépenses de personnel
C13: 2-5: Les dépenses extraordinaires d'investissement
C14: 2-6: Le financement des investissements:
C15: 2-7: Le financement des investissements les imputations:
A16: 3 | B16: Analyse des charges et des produits
C17: 3-1 Evolution des charges et produits courants
A18: 4 | B18: Etat des créances restant à recouvrer au 31/12
A19: 5 | B19: Etat de l'endettement de la commune
C20: 5-1 La dette financière (investissements + assainissement)
C21: 5-2 La dette à court terme (Fournisseurs, tiers …)
A22: 6 | B22: Etat et fluctuation de la trésorerie
C23: 6-1 Etat et rendement de la trésorerie
C24: 6-2 Evolution sur le dernier exercice
A25: 7 | B25: Etat des réserves et des provisions
A26: 8 | B26: Tableau synthétique des mutations de l'actif immobilisé
A27: 9 | B27: Droits et engagements hors bilan
A28: 10 | B28: Récapitulatif par secteur des tiers disposant d'une aide financière
A29: 11 | B29: Les principaux fournisseurs
A30: 12 | B30: Indicateurs et ratios
A31: 13 | B31: Note du Receveur, explication des principaux écarts

Sheet Carte Identité
A1: SYNTHESE ANALYTIQUE | D1: Administration communale de: | G1: =Coordonnées!C1 -> YVOIR | K1: Code INS | L1: =Coordonnées!E1 -> 91141
K2: Exercice: | L2: =Coordonnées!E2 -> 2023
A4: 1. Tableau de bord général
A5: 1.a: Carte d'identité de la commune | D5: Situation au 31 décembre | F5: =L2 -> 2023
A7: Objet: | B7: Exercice | C7: Chiffres:
B8: =L2 -> 2023
A9: Superficie (km2) | B9: =L2 -> 2023 | C9: 56.84
D10: Densité de population
D11: au Km2
A12: Population | B12: =B13-1 -> 2020 | C12: 9107 | D12: =IF(C9=0,"",C12/C9) -> 160.22167
B13: =B14-1 -> 2021 | C13: 9177 | D13: =IF(C9=0,"",C13/C9) -> 161.4532
B14: =B15-1 -> 2022 | C14: 9232 | D14: =IF(C9=0,"",C14/C9) -> 162.42083
B15: =L2 -> 2023 | C15: 9006 | D15: =IF(C9=0,"",C15/C9) -> 158.44476
A16: Population scolaire | B16: =B17-1 -> 2020 | C16: 887
A17: (nombre d'élèves au 31/12 | B17: =B18-1 -> 2021 | C17: 849
A18: inscrits dans le réseau | B18: =B19-1 -> 2022 | C18: 874
A19: communal) | B19: =L2 -> 2023 | C19: 816
D20: m de voirie /hab.
A21: Voirie communale (kms) | B21: =L2 -> 2023 | C21: 197 | D21: =IF(C15=0,"",C21*1000/C15) -> 21.874306
A23: Membre de la zone de police de : | B23: HAUTE-MEUSE | D23: Composée des communes de: | G23: ANHÉE, DINANT, HASTIÈRE, ONHAYE, YVOIR
A25: Membre du service incendie de : | B25: ZONE DINAPHI | D25: Type de centre:
A26: Contrat de sécurité Oui/Non: | B26: Non
A27: Régies autonomes: | B27: ANHÉE, DINANT, HASTIÈRE, ONHAYE, YVOIR
A28: Régies non-autonomes: | B28: ANHÉE, DINANT, HASTIÈRE, ONHAYE, YVOIR
B30: Additionnel à l' IPP | F30: Additionnel au précompte immobilier
B31: =C31-1 -> 2020 | C31: =D31-1 -> 2021 | D31: =E31-1 -> 2022 | E31: =L2 -> 2023 | F31: =G31-1 -> 2020 | G31: =H31-1 -> 2021 | H31: =I31-1 -> 2022 | I31: =L2 -> 2023
A32: Taux | B32: 8 | C32: 8 | D32: 8 | E32: 8 | F32: 2600 | G32: 2600 | H32: 2600 | I32: 2600
A33: Rendement de l'additionnel | B33: =IF(B32=0,"",'Recettes budgétaires ordinaires'!B$21/B32) -> 417562.72 | C33: =IF(C32=0,"",'Recettes budgétaires ordinaires'!C$21/C32) -> 390274.53 | D33: =IF(D32=0,"",'Recettes budgétaires ordinaires'!D$21/D32) -> 390136.55 | E33: =IF(E32=0,"",'Recettes budgétaires ordinaires'!E$21/E32) -> 600572.97 | F33: =IF(F32=0,"",'Recettes budgétaires ordinaires'!B20/F32) -> 680.07394 | G33: =IF(G32=0,"",'Recettes budgétaires ordinaires'!C20/G32) -> 627.09629 | H33: =IF(H32=0,"",'Recettes budgétaires ordinaires'!D20/H32) -> 686.17712 | I33: =IF(I32=0,"",'Recettes budgétaires ordinaires'!E20/I32) -> 769.74598
A34: ( % / centime)
A36: Nombre de personnes occupées par la commune : | D36: 114 | E36: soit : | F36: 88.440002 | G36: équivalents temps-plein.

Sheet Résultat Budgétaire
A1: SYNTHESE ANALYTIQUE | D1: Administration communale de: | F1: =Coordonnées!C1 -> YVOIR | K1: Code INS | L1: =Coordonnées!E1 -> 91141
K2: Exercice: | L2: =Coordonnées!E2 -> 2023
A4: 1. Tableau de bord général
A5: 1.b: Evolution des résultats budgétaires ordinaires:
B8: Résultat budgétaire ordinaire *
A9: Exercices: | B9: =C9-1 -> 2020 | C9: =D9-1 -> 2021 | D9: =E9-1 -> 2022 | E9: =L2 -> 2023
A10: Résultat reporté des ex.antérieurs | B10: 912309.18 | C10: 1749605.5 | D10: 1151150.4 | E10: 539209.66
A11: Solde des opérations ex. antérieurs | B11: -86509.52 | C11: -183803.38 | D11: -28326.9 | E11: -115535.07
A12: Résultats Exercices antérieurs | B12: =SUM(B10:B11) -> 825799.66 | C12: =SUM(C10:C11) -> 1565802.1 | D12: =SUM(D10:D11) -> 1122823.5 | E12: =SUM(E10:E11) -> 423674.59
A13: Solde des opérations de l'exercice propres | B13: 686908.51 | C13: 156048.44 | D13: 143855.64 | E13: 1664377
A14: Solde net des opérations de prélèvt hors 060 | B14: 55000 | C14: -115000 | D14: 179522.14 | E14: 70367.05
A15: Résultats Exercice Propre | B15: =SUM(B13:B14) -> 741908.51 | C15: =SUM(C13:C14) -> 41048.44 | D15: =SUM(D13:D14) -> 323377.78 | E15: =SUM(E13:E14) -> 1734744.1
A16: Prélèvements (060) | B16: 0 | C16: -650000 | D16: -1160288.8 | E16: -850000
A17: Résultat global: | B17: =B12+B15+B16 -> 1567708.2 | C17: =C12+C15+C16 -> 956850.58 | D17: =D12+D15+D16 -> 285912.43 | E17: =E12+E15+E16 -> 1308418.6
A38: 1.b.2. | B38: Ventilation économique des résultats budgétaires
B40: Dépenses ordinaires (engagements actés aux comptes)
B41: =C41-1 -> 2020 | C41: =D41-1 -> 2021 | D41: =E41-1 -> 2022 | E41: =L2 -> 2023
A42: Personnel | B42: ='Dépenses budgétaires ordinaires'!B18 -> 5040803.3 | C42: ='Dépenses budgétaires ordinaires'!C18 -> 5206108.6 | D42: ='Dépenses budgétaires ordinaires'!D18 -> 5809264.2 | E42: ='Dépenses budgétaires ordinaires'!E18 -> 6222015.7
A43: Fonctionnement | B43: ='Dépenses budgétaires ordinaires'!B34 -> 1318907.9 | C43: ='Dépenses budgétaires ordinaires'!C34 -> 1541275.4 | D43: ='Dépenses budgétaires ordinaires'!D34 -> 1694606.1 | E43: ='Dépenses budgétaires ordinaires'!E34 -> 1934838.3
A44: Transferts | B44: ='Dépenses budgétaires ordinaires'!B46 -> 3263835.1 | C44: ='Dépenses budgétaires ordinaires'!C46 -> 3373452 | D44: ='Dépenses budgétaires ordinaires'!D46 -> 3293892 | E44: ='Dépenses budgétaires ordinaires'!E46 -> 3309028.1
A45: Dette | B45: ='Dépenses budgétaires ordinaires'!B56 -> 996500.83 | C45: ='Dépenses budgétaires ordinaires'!C56 -> 949715.46 | D45: ='Dépenses budgétaires ordinaires'!D56 -> 950028.95 | E45: ='Dépenses budgétaires ordinaires'!E56 -> 1165236.7
A46: Prélèvements | B46: ='Dépenses budgétaires ordinaires'!B57 -> 1451302.3 | C46: ='Dépenses budgétaires ordinaires'!C57 -> 115000 | D46: ='Dépenses budgétaires ordinaires'!D57 -> 830602.65 | E46: ='Dépenses budgétaires ordinaires'!E57 -> 0
A47: Total (exercice propre) | B47: =SUM(B42:B46) -> 12071350 | C47: =SUM(C42:C46) -> 11185551 | D47: =SUM(D42:D46) -> 12578394 | E47: =SUM(E42:E46) -> 12631119
A48: Exercices antérieurs | B48: ='Dépenses budgétaires ordinaires'!B59+'Dépenses budgétaires ordinaires'!B60 -> 257682.68 | C48: ='Dépenses budgétaires ordinaires'!C59+'Dépenses budgétaires ordinaires'!C60 -> 224425.76 | D48: ='Dépenses budgétaires ordinaires'!D59+'Dépenses budgétaires ordinaires'!D60 -> 217282.84 | E48: ='Dépenses budgétaires ordinaires'!E59+'Dépenses budgétaires ordinaires'!E60 -> 241851.04
A49: Prélèvements | B49: ='Dépenses budgétaires ordinaires'!B61 -> 0 | C49: ='Dépenses budgétaires ordinaires'!C61 -> 650000 | D49: ='Dépenses budgétaires ordinaires'!D61 -> 1160288.8 | E49: ='Dépenses budgétaires ordinaires'!E61 -> 850000
A50: Total général | B50: =SUM(B47:B49) -> 12329032 | C50: =SUM(C47:C49) -> 12059977 | D50: =SUM(D47:D49) -> 13955966 | E50: =SUM(E47:E49) -> 13722970
B52: Recettes ordinaires (Droits actés aux comptes)
B53: =C53-1 -> 2020 | C53: =D53-1 -> 2021 | D53: =E53-1 -> 2022 | E53: =L2 -> 2023
A54: Prestation | B54: ='Recettes budgétaires ordinaires'!B14 -> 611397.68 | C54: ='Recettes budgétaires ordinaires'!C14 -> 591351 | D54: ='Recettes budgétaires ordinaires'!D14 -> 760568.69 | E54: ='Recettes budgétaires ordinaires'!E14 -> 842729.94
A55: Transferts | B55: ='Recettes budgétaires ordinaires'!B43 -> 10535644 | C55: ='Recettes budgétaires ordinaires'!C43 -> 10474867 | D55: ='Recettes budgétaires ordinaires'!D43 -> 10972079 | E55: ='Recettes budgétaires ordinaires'!E43 -> 13264362
A56: Dette | B56: ='Recettes budgétaires ordinaires'!B52 -> 159913.81 | C56: ='Recettes budgétaires ordinaires'!C52 -> 160382.17 | D56: ='Recettes budgétaires ordinaires'!D52 -> 158998.78 | E56: ='Recettes budgétaires ordinaires'!E52 -> 188403.99
A57: Prélèvements | B57: ='Recettes budgétaires ordinaires'!B53 -> 1506302.3 | C57: ='Recettes budgétaires ordinaires'!C53 -> 0 | D57: ='Recettes budgétaires ordinaires'!D53 -> 1010124.8 | E57: ='Recettes budgétaires ordinaires'!E53 -> 70367.05
A58: Total (exercice propre) | B58: =SUM(B54:B57) -> 12813258 | C58: =SUM(C54:C57) -> 11226600 | D58: =SUM(D54:D57) -> 12901772 | E58: =SUM(E54:E57) -> 14365863
A59: Exercices antérieurs | B59: ='Recettes budgétaires ordinaires'!B55+'Recettes budgétaires ordinaires'!B56 -> 1083482.3 | C59: ='Recettes budgétaires ordinaires'!C55+'Recettes budgétaires ordinaires'!C56 -> 1790227.9 | D59: ='Recettes budgétaires ordinaires'!D55+'Recettes budgétaires ordinaires'!D56 -> 1340106.3 | E59: ='Recettes budgétaires ordinaires'!E55+'Recettes budgétaires ordinaires'!E56 -> 665525.63
A60: Prélèvements | B60: ='Recettes budgétaires ordinaires'!B57 -> 0 | C60: ='Recettes budgétaires ordinaires'!C57 -> 0 | D60: ='Recettes budgétaires ordinaires'!D57 -> 0 | E60: ='Recettes budgétaires ordinaires'!E57 -> 0
A61: Total général | B61: =SUM(B58:B60) -> 13896740 | C61: =SUM(C58:C60) -> 13016828 | D61: =SUM(D58:D60) -> 14241878 | E61: =SUM(E58:E60) -> 15031389

Sheet Taux de réalisation du budget
A1: SYNTHESE ANALYTIQUE | C1: Administration communale de: | E1: =Coordonnées!C1 -> YVOIR | H1: Code INS | I1: =Coordonnées!E1 -> 91141
H2: Exercice: | I2: =Coordonnées!E2 -> 2023
A4: Evolution durant l'exercice des principales données budgétaires - exercice propre / hors prélèvement
B5: 2-1: Recettes et dépenses ordinaire et taux de réalisation du budget
H8: Dépenses par habitant (engagements)
B9: Budget initial (BI) | C9: Budget final (BF) | D9: Engagements (compte) | E9: Taux de réalisation
E10: BF/BI | F10: Compte/BI | G10: Compte/BF
A11: Personnel | B11: 6653369.8 | C11: 6384069.8 | D11: 6222015.7 | E11: =IF(B11<>0,C11/B11,"") -> 0.95952427 | F11: =IF(B11<>0,D11/B11,"") -> 0.93516757 | G11: =IF(C11<>0,D11/C11,"") -> 0.97461586 | H11: =IF('Carte Identité'!$C$15<>0,D11/'Carte Identité'!$C$15,0) -> 690.87449
A12: Fonctionnement | B12: 2351682.4 | C12: 2342046.9 | D12: 1934838.3 | E12: =IF(B12<>0,C12/B12,"") -> 0.99590275 | F12: =IF(B12<>0,D12/B12,"") -> 0.82274646 | G12: =IF(C12<>0,D12/C12,"") -> 0.82613133 | H12: =IF('Carte Identité'!$C$15<>0,D12/'Carte Identité'!$C$15,0) -> 214.83881
A13: Transferts | B13: 3293412.5 | C13: 3353915.6 | D13: 3309028.1 | E13: =IF(B13<>0,C13/B13,"") -> 1.018371 | F13: =IF(B13<>0,D13/B13,"") -> 1.0047415 | G13: =IF(C13<>0,D13/C13,"") -> 0.98661638 | H13: =IF('Carte Identité'!$C$15<>0,D13/'Carte Identité'!$C$15,0) -> 367.42484
A14: Dette | B14: 1253785 | C14: 1258767.1 | D14: 1165236.7 | E14: =IF(B14<>0,C14/B14,"") -> 1.0039737 | F14: =IF(B14<>0,D14/B14,"") -> 0.92937524 | G14: =IF(C14<>0,D14/C14,"") -> 0.92569682 | H14: =IF('Carte Identité'!$C$15<>0,D14/'Carte Identité'!$C$15,0) -> 129.38449
A15: Total | B15: =SUM(B11:B14) -> 13552250 | C15: =SUM(C11:C14) -> 13338800 | D15: =SUM(D11:D14) -> 12631119 | E15: =IF(B15<>0,C15/B15,"") -> 0.98424984 | F15: =IF(B15<>0,D15/B15,"") -> 0.93203116 | G15: =IF(C15<>0,D15/C15,"") -> 0.9469457 | H15: =IF('Carte Identité'!$C$15<>0,D15/'Carte Identité'!$C$15,0) -> 1402.5226
H18: Recettes par habitant (droits constatés)
B19: Budget initial (BI) | C19: Budget final (BF) | D19: Droits constatés (compte) | E19: Taux de réalisation
E20: BF/BI | F20: Compte/BI | G20: Compte/BF
A21: Prestation | B21: 807686.9 | C21: 871040.14 | D21: 842729.94 | E21: =IF(B21<>0,C21/B21,"") -> 1.0784379 | F21: =IF(B21<>0,D21/B21,"") -> 1.0433869 | G21: =IF(C21<>0,D21/C21,"") -> 0.9674984 | H21: =IF('Carte Identité'!$C$15<>0,D21/'Carte Identité'!$C$15,0) -> 93.574277
A22: Transferts | B22: 12736491 | C22: 13309239 | D22: 13264362 | E22: =IF(B22<>0,C22/B22,"") -> 1.0449691 | F22: =IF(B22<>0,D22/B22,"") -> 1.0414455 | G22: =IF(C22<>0,D22/C22,"") -> 0.99662812 | H22: =IF('Carte Identité'!$C$15<>0,D22/'Carte Identité'!$C$15,0) -> 1472.8361
A23: Dette | B23: 116565.06 | C23: 178331.02 | D23: 188403.99 | E23: =IF(B23<>0,C23/B23,"") -> 1.529884 | F23: =IF(B23<>0,D23/B23,"") -> 1.616299 | G23: =IF(C23<>0,D23/C23,"") -> 1.0564847 | H23: =IF('Carte Identité'!$C$15<>0,D23/'Carte Identité'!$C$15,0) -> 20.91983
A24: Total | B24: =SUM(B21:B23) -> 13660743 | C24: =SUM(C21:C23) -> 14358610 | D24: =SUM(D21:D23) -> 14295496 | E24: =IF(B24<>0,C24/B24,"") -> 1.0510856 | F24: =IF(B24<>0,D24/B24,"") -> 1.0464655 | G24: =IF(C24<>0,D24/C24,"") -> 0.99560442 | H24: =IF('Carte Identité'!$C$15<>0,D24/'Carte Identité'!$C$15,0) -> 1587.3302

Sheet Recettes budgétaires ordinaires
A1: SYNTHESE ANALYTIQUE | B1: Administration communale de: | D1: =Coordonnées!C1 -> YVOIR | G1: Code INS | H1: =Coordonnées!E1 -> 91141
G2: Exercice: | H2: =Coordonnées!E2 -> 2023
B4: Les recettes
A5: 2 | B5: Evolution durant l'exercice des principales données budgétaires - exercice propre / hors prélèvement
A7: Exercices: | B7: =C7-1 -> 2020 | C7: =D7-1 -> 2021 | D7: =E7-1 -> 2022 | E7: =H2 -> 2023
A8: RECETTES DE PRESTATIONS
A9: Vente de bois | B9: 87682.21 | C9: 36836.48 | D9: 117162.4 | E9: 35124.61
A10: Locations patrimoine | B10: 191326.48 | C10: 192229.13 | D10: 216356.66 | E10: 243564.62
A11: Vente d'eau | B11: 0 | C11: 0 | D11: 0 | E11: 0
A12: Recettes des installations culturelles et sportives | B12: 20348.63 | C12: 27689.7 | D12: 30158.05 | E12: 33479.48
A13: Autres | B13: 312040.36 | C13: 334595.69 | D13: 396891.58 | E13: 530561.23 | G13: Variations en pourcentage:
A14: Sous-total prestations | B14: 611397.68 | C14: 591351 | D14: 760568.69 | E14: 842729.94 | G14: =C7 -> 2021 | H14: =D7 -> 2022 | I14: =E7 -> 2023
A15: RECETTES DE TRANSFERTS | F15: Prestations | G15: =IF(B14=0,"",(C14-B14)/B14) -> -0.032788283 | H15: =IF(C14=0,"",(D14-C14)/C14) -> 0.2861544 | I15: =IF(D14=0,"",(E14-D14)/D14) -> 0.10802607
A16: Fonds des communes : dotation principale | B16: 1853910 | C16: 2012834.4 | D16: 2265550.9 | E16: 2439026.4 | F16: Transferts | G16: =IF(B43=0,"",(C43-B43)/B43) -> -0.0057687531 | H16: =IF(C43=0,"",(D43-C43)/C43) -> 0.047467209 | I16: =IF(D43=0,"",(E43-D43)/D43) -> 0.20891961
A17: Fonds des communes : dotation spécifique | B17: 0 | C17: 0 | D17: 0 | E17: 0 | F17: Dette | G17: =IF(B52=0,"",(C52-B52)/B52) -> 0.0029288277 | H17: =IF(C52=0,"",(D52-C52)/C52) -> -0.0086255848 | I17: =IF(D52=0,"",(E52-D52)/D52) -> 0.18493985
A18: Tonus axe 1 | B18: 0 | C18: 0 | D18: 0 | E18: 0 | F18: Totaux | G18: =IF(B54=0,"",(C54-B54)/B54) -> -0.12382941 | H18: =IF(C54=0,"",(D54-C54)/C54) -> 0.14921453 | I18: =IF(D54=0,"",(E54-D54)/D54) -> 0.11347986
A19: Sous-total Fonds des communes | B19: =SUM(B16:B18) -> 1853910 | C19: =SUM(C16:C18) -> 2012834.4 | D19: =SUM(D16:D18) -> 2265550.9 | E19: =SUM(E16:E18) -> 2439026.4
A20: Précompte immobilier | B20: 1768192.2 | C20: 1630450.4 | D20: 1784060.5 | E20: 2001339.6
A21: IPP | B21: 3340501.8 | C21: 3122196.2 | D21: 3121092.4 | E21: 4804583.7
A22: Taxes automobiles | B22: 130374.39 | C22: 129749.8 | D22: 134654.51 | E22: 145049.25
A23: Autres taxes additionnelles | B23: 0 | C23: 0 | D23: 0 | E23: 0
A24: Sous-total "taxes additionnelles" | B24: =SUM(B20:B23) -> 5239068.4 | C24: =SUM(C20:C23) -> 4882396.4 | D24: =SUM(D20:D23) -> 5039807.4 | E24: =SUM(E20:E23) -> 6950972.6 | G24: Traitement des déchets ménagers
A25: Taxe sur immondices | B25: 541005.96 | C25: 576840.37 | D25: 578150.8 | E25: 593781.19 | G25: =B7 -> 2020 | H25: =C7 -> 2021 | I25: =D7 -> 2022 | J25: =E7 -> 2023
A26: Vente sacs | B26: 0 | C26: 0 | D26: 0 | E26: 0 | F26: Recettes: | G26: =B25+B26 -> 541005.96 | H26: =C25+C26 -> 576840.37 | I26: =D25+D26 -> 578150.8 | J26: =E25+E26 -> 593781.19
A27: Taxes industrielles, commerciales et agricoles | B27: 175745.54 | C27: 167903.68 | D27: 224679.62 | E27: 237698.87 | F27: Dépenses : | G27: ='Dépenses budgétaires ordinaires'!B40 -> 503533.4 | H27: ='Dépenses budgétaires ordinaires'!C40 -> 508625.01 | I27: ='Dépenses budgétaires ordinaires'!D40 -> 524891.5 | J27: ='Dépenses budgétaires ordinaires'!E40 -> 529250.18
A28: Autres taxes locales | B28: 304802.35 | C28: 315619.22 | D28: 317768.12 | E28: 357136.14 | F28: Résultat: | G28: =G26-G27 -> 37472.56 | H28: =H26-H27 -> 68215.36 | I28: =I26-I27 -> 53259.3 | J28: =J26-J27 -> 64531.01
A29: Sous-total "taxes locales" | B29: =SUM(B25:B28) -> 1021553.8 | C29: =SUM(C25:C28) -> 1060363.3 | D29: =SUM(D25:D28) -> 1120598.5 | E29: =SUM(E25:E28) -> 1188616.2
A30: Total des recettes fiscales | B30: =B29+B24 -> 6260622.3 | C30: =C29+C24 -> 5942759.7 | D30: =D29+D24 -> 6160406 | E30: =E29+E24 -> 8139588.8
A31: Subventions pour le personnel enseignant | B31: 11845.44 | C31: 13546 | D31: 14252.61 | E31: 18203.05
A32: Subventions APE | B32: 467783 | C32: 469669.49 | D32: 797026.6 | E32: 863509.84
A33: Total des subventions pour le personnel | B33: =SUM(B31:B32) -> 479628.44 | C33: =SUM(C31:C32) -> 483215.49 | D33: =SUM(D31:D32) -> 811279.21 | E33: =SUM(E31:E32) -> 881712.89
A34: Subventions fonctionnement enseignement | B34: 458494.6 | C34: 460916.6 | D34: 483177.66 | E34: 499869.14
A35: Quote-part incendie | B35: 135413.25 | C35: 135765.22 | D35: 137266.87 | E35: 135400.11
A36: Contrat de sécurité | B36: 0 | C36: 0 | D36: 0 | E36: 0
A37: Subventions "politique Grandes Villes" | B37: 0 | C37: 0 | D37: 0 | E37: 0
A38: Remboursement emprunts part Etat | B38: 87185.78 | C38: 82748.3 | D38: 83388.75 | E38: 83177.37
A39: Remboursement CRAC | B39: 0 | C39: 0 | D39: 0 | E39: 0
A40: Autres subventions & transferts | B40: =B43-B42-B30-B35-B36-B37-B38-B39-B33-B19-B34 -> 1260390 | C40: =C43-C42-C30-C35-C36-C37-C38-C39-C33-C19-C34 -> 1356627.1 | D40: =D43-D42-D30-D35-D36-D37-D38-D39-D33-D19-D34 -> 1031010.1 | E40: =E43-E42-E30-E35-E36-E37-E38-E39-E33-E19-E34 -> 1085587.3
A41: Sous-total Subsides | B41: =SUM(B34:B40) -> 1941483.6 | C41: =SUM(C34:C40) -> 2036057.2 | D41: =SUM(D34:D40) -> 1734843.4 | E41: =SUM(E34:E40) -> 1804033.9
A42: Tonus axe 2
...

Sheet Dépenses budgétaires ordinaires
A1: SYNTHESE ANALYTIQUE | E1: Administration communale de: | H1: =Coordonnées!C1 -> YVOIR | K1: Code INS | L1: =Coordonnées!E1 -> 91141
K2: Exercice: | L2: =Coordonnées!E2 -> 2023
B4: Les dépenses
A5: 2 | B5: Evolution durant l'exercice des principales données budgétaires - exercice propre / hors prélèvement
B6: 2-3: Les dépenses ordinaires (dépenses engagées) | F6: Nombre d'équivalent temps plein au 31/12
A7: Exercices: | B7: =C7-1 -> 2020 | C7: =D7-1 -> 2021 | D7: =E7-1 -> 2022 | E7: =L2 -> 2023 | F7: =G7-1 -> 2020 | G7: =H7-1 -> 2021 | H7: =I7-1 -> 2022 | I7: =L2 -> 2023
A8: DEPENSES DE PERSONNEL
A9: Traitements personnel non subsidié | B9: 2143128.8 | C9: 2091905.7 | D9: 2188464.4 | E9: 2227356.8 | F9: 44.18 | G9: 42.759998 | H9: 44.339998 | I9: 40.890001
A10: Traitements personnel Subsidié | B10: 1889791 | C10: 2095212.7 | D10: 2531645.1 | E10: 2760502.3 | F10: 40.900002 | G10: 45.029999 | H10: 48.349998 | I10: 47.549999
A11: Traitements personnel enseignement (payé par commune) | B11: 416731.86 | C11: 410803.28 | D11: 447626.47 | E11: 516670.95
A12: Traitements personnel pompier | B12: 0 | C12: 0 | D12: 0 | E12: 0
A13: Traitements mandataires | B13: 244573.57 | C13: 249894.31 | D13: 264299.25 | E13: 292748.11
A14: Jetons de présence | B14: 16105 | C14: 18225 | D14: 16680 | E14: 15325 | F14: =SUM(F9:F13) -> 85.080002 | G14: =SUM(G9:G13) -> 87.789997 | H14: =SUM(H9:H13) -> 92.689997 | I14: =SUM(I9:I13) -> 88.440001 | J14: <Totaux
A15: Traitement enseignement subsidié à 100% | B15: 0 | C15: 0 | D15: 0 | E15: 0
A16: Assurance-loi | B16: 54185.42 | C16: 54748.11 | D16: 55022.17 | E16: 62273.16
A17: Autres | B17: 276287.67 | C17: 285319.48 | D17: 305526.75 | E17: 347139.4
A18: sous-total dép. personnel | B18: 5040803.3 | C18: 5206108.6 | D18: 5809264.2 | E18: 6222015.7 | G18: Variations en pourcentage:
A19: DEPENSES DE FONCTIONNEMENT | G19: =C7 -> 2021 | H19: =D7 -> 2022 | I19: =E7 -> 2023
A20: Frais administratifs IPP | B20: 30245.27 | C20: 31854.8 | D20: 32959.15 | E20: 33835.78 | F20: Personnel | G20: =IF(B18=0,"",(C18-B18)/B18) -> 0.03279343 | H20: =IF(C18=0,"",(D18-C18)/C18) -> 0.11585537 | I20: =IF(D18=0,"",(E18-D18)/D18) -> 0.071050568
A21: Déchets | B21: 50237.38 | C21: 63184.73 | D21: 64579.92 | E21: 63710.03 | F21: Fonctionnement | G21: =IF(B34=0,"",(C34-B34)/B34) -> 0.16859968 | H21: =IF(C34=0,"",(D34-C34)/C34) -> 0.099483013 | I21: =IF(D34=0,"",(E34-D34)/D34) -> 0.14176287
A22: Téléphonie | B22: 40814.05 | C22: 49743.02 | D22: 43626.18 | E22: 51183.7 | F22: Transfert | G22: =IF(B46=0,"",(C46-B46)/B46) -> 0.033585305 | H22: =IF(C46=0,"",(D46-C46)/C46) -> -0.023584162 | I22: =IF(D46=0,"",(E46-D46)/D46) -> 0.0045952114
A23: Correspondance | B23: 45045.94 | C23: 63230.61 | D23: 62981.62 | E23: 60664.66 | F23: Dette | G23: =IF(B56=0,"",(C56-B56)/B56) -> -0.046949655 | H23: =IF(C56=0,"",(D56-C56)/C56) -> 0.00033008834 | I23: =IF(D56=0,"",(E56-D56)/D56) -> 0.2265276
A24: Carburant | B24: 29821.03 | C24: 46824.92 | D24: 55387.82 | E24: 52350.6 | F24: Totaux | G24: =IF(B58=0,"",(C58-B58)/B58) -> -0.073380201 | H24: =IF(C58=0,"",(D58-C58)/C58) -> 0.12452157 | I24: =IF(D58=0,"",(E58-D58)/D58) -> 0.0041917116
A25: Consommation d'eau | B25: 26944.01 | C25: 29825.49 | D25: 26670.37 | E25: 32908.78
A26: Chauffage, électricité, gaz | B26: 120995.36 | C26: 148439.2 | D26: 177295.44 | E26: 210949.9
A27: Eclairage public | B27: 71760.56 | C27: 72000 | D27: 63000 | E27: 94955.97
A28: Assurances | B28: 87387.59 | C28: 92434.32 | D28: 101633.59 | E28: 126406.16
A29: Frais de la gestion informatique | B29: 97728.24 | C29: 113033.32 | D29: 103334.23 | E29: 162868.81
A30: Autres Frais de fonctionnement des bâtiments | B30: 113772.78 | C30: 128272.89 | D30: 172123.21 | E30: 174032.95
A31: Travaux et fourniture pour la voirie | B31: 36106.63 | C31: 55348.33 | D31: 47965.08 | E31: 62508.31
A32: Autres Frais techniques | B32: 287005.57 | C32: 299955.55 | D32: 345303.62 | E32: 426418.39
A33: Divers | B33: 281043.52 | C33: 347128.21 | D33: 397745.88 | E33: 382044.29
A34: sous-total dép. fonctionnement | B34: 1318907.9 | C34: 1541275.4 | D34: 1694606.1 | E34: 1934838.3
A35: DEPENSES DE TRANSFERTS
A36: Intervention au CPAS | B36: 1199112.5 | C36: 1300000 | D36: 1198455.6 | E36: 1131353.6
A37: Intervention Zone de police | B37: 681725.08 | C37: 681725.08 | D37: 723173.96 | E37: 782184.96
A38: Intervention SRI | B38: 425723.28 | C38: 372507.87 | D38: 372507.87 | E38: 372507.87
A39: Intervention Hôpital | B39: 0 | C39: 0 | D39: 0 | E39: 0
A40: Intervention traitement des déchets | B40: 503533.4 | C40: 508625.01 | D40: 524891.5 | E40: 529250.18
A41: Intervention fabriques d'église & laïcité | B41: 87475.36 | C41: 80520.39 | D41: 90111.96 | E41: 99696.89
...

Sheet dépenses de personnel
A1: SYNTHESE ANALYTIQUE | D1: Administration communale de: | G1: =Coordonnées!C1 -> YVOIR | K1: Code INS | L1: =Coordonnées!E1 -> 91141
K2: Exercice: | L2: =Coordonnées!E2 -> 2023
A5: 2 | B5: Evolution durant l'exercice des principales données budgétaires - exercice propre / hors prélèvement
B6: 2-4 Les dépenses de personnel
A7: DEPENSES ORDINAIRES DE PERSONNEL ET DES MANDATAIRES
B8: Dépenses | C8: Recettes | D8: Coût net (D-R)
A9: =A10-1 -> 2020 | B9: 5040803.3 | C9: 1029451.3 | D9: =B9-C9 -> 4011352
A10: =A11-1 -> 2021 | B10: 5206108.6 | C10: 1057479.2 | D10: =B10-C10 -> 4148629.3
A11: =A12-1 -> 2022 | B11: 5809264.2 | C11: 935019.88 | D11: =B11-C11 -> 4874244.3
A12: =L2 -> 2023 | B12: 6222015.7 | C12: 1159018 | D12: =B12-C12 -> 5062997.7
D17: Nombre moyen d'équivalents temps plein (moyenne des 4 trimestres)
A18: Exercices: | D18: =E18-1 -> 2020 | E18: =F18-1 -> 2021 | F18: =G18-1 -> 2022 | G18: =L2 -> 2023
A19: Statutaires | D19: 23.02 | E19: 22.049999 | F19: 21.379999 | G19: 19.02
A20: Contractuels non subventionnés | D20: 21.16 | E20: 20.709999 | F20: 22.959999 | G20: 21.870001
A21: Contractuels subventionnés | D21: 40.900002 | E21: 45.029999 | F21: 48.349998 | G21: 47.549999
A22: Totaux: | D22: =SUM(D19:D21) -> 85.080002 | E22: =SUM(E19:E21) -> 87.789997 | F22: =SUM(F19:F21) -> 92.689997 | G22: =SUM(G19:G21) -> 88.440001
D24: Coût net moyen par équivalent temps plein:
D25: =D18 -> 2020 | E25: =E18 -> 2021 | F25: =F18 -> 2022 | G25: =G18 -> 2023
D26: =IF(D22=0,"",D9/D22) -> 47148.001 | E26: =IF(E22=0,"",D10/E22) -> 47256.287 | F26: =IF(F22=0,"",D11/F22) -> 52586.519 | G26: =IF(G22=0,"",D12/G22) -> 57247.825
D28: Rapport coût net - volume des dépenses ordinaires
D29: =D25 -> 2020 | E29: =E25 -> 2021 | F29: =F25 -> 2022 | G29: =G25 -> 2023
D30: =IF('Dépenses budgétaires ordinaires'!B58=0,"",D9/'Dépenses budgétaires ordinaires'!B58) -> 0.33230353 | E30: =IF('Dépenses budgétaires ordinaires'!C58=0,"",D10/'Dépenses budgétaires ordinaires'!C58) -> 0.3708918 | F30: =IF('Dépenses budgétaires ordinaires'!D58=0,"",D11/'Dépenses budgétaires ordinaires'!D58) -> 0.38750928 | G30: =IF('Dépenses budgétaires ordinaires'!E58=0,"",D12/'Dépenses budgétaires ordinaires'!E58) -> 0.40083525
D32: Evolution en pourcentage
D33: =D29 -> 2020 | E33: =E29 -> 2021 | F33: =F29 -> 2022 | G33: =G29 -> 2023
C34: Dépenses brutes | E34: =IF(B9=0,"",(B10-B9)/B9) -> 0.03279343 | F34: =IF(B10=0,"",(B11-B10)/B10) -> 0.11585537 | G34: =IF(B11=0,"",(B12-B11)/B11) -> 0.071050568
C35: Recettes | E35: =IF(C9=0,"",(C10-C9)/C9) -> 0.027226077 | F35: =IF(C10=0,"",(C11-C10)/C10) -> -0.11580307 | G35: =IF(C11=0,"",(C12-C11)/C11) -> 0.23956512
C36: Coût net | E36: =IF(D9=0,"",(D10-D9)/D9) -> 0.034222205 | F36: =IF(D10=0,"",(D11-D10)/D10) -> 0.17490475 | G36: =IF(D11=0,"",(D12-D11)/D11) -> 0.038724643

Sheet compte de résultats
A1: SYNTHESE ANALYTIQUE | B1: Administration communale de: | D1: =Coordonnées!C1 -> YVOIR | F1: Code INS | G1: =Coordonnées!E1 -> 91141
F2: Exercice: | G2: =Coordonnées!E2 -> 2023
A4: 3-1 Compte de résultats- Evolution | B4: Cash-Flow et taux de couverture des emprunts
A6: Exercices: | B6: =C6-1 -> 2020 | C6: =D6-1 -> 2021 | D6: =E6-1 -> 2022 | E6: =G2 -> 2023
A8: Charges courantes | B8: 10669488 | C8: 11011557 | D8: 11685524 | E8: 12572568 | F8: A
A10: Produits courants | B10: 11449141 | C10: 11217248 | D10: 11973877 | E10: 14280094 | F10: B
A12: Résultats courants | B12: =B10-B8 -> 779653.38 | C12: =C10-C8 -> 205690.67 | D12: =D10-D8 -> 288353.32 | E12: =E10-E8 -> 1707525.8
A14: Récupération des produits d'emprunts | B14: 103185.78 | C14: 98748.3 | D14: 97388.75 | E14: 85177.37 | F14: C
A15: Produits exceptionnels | B15: 40212.98 | C15: 76499 | D15: 136527.02 | E15: 351792.9 | F15: D
A16: Remboursement des emprunts | B16: 814062.67 | C16: 785534.52 | D16: 780171.01 | E16: 892631.37 | F16: E
A17: Charges exceptionnelles | B17: 135274.41 | C17: 91620.38 | D17: 34753.28 | E17: 41862.86 | F17: F
A18: Cash-Flow | B18: =(B10-B14+B15)-(B8-B16+B17) -> 1395468.8 | C18: =(C10-C14+C15)-(C8-C16+C17) -> 877355.51 | D18: =(D10-D14+D15)-(D8-D16+D17) -> 1072909.3 | E18: =(E10-E14+E15)-(E8-E16+E17) -> 2824909.9 | F18: (B-C+D)-(A-E+F)
A20: Le Cash-flow peut être considéré comme le surplus financier généré par l'activité communale au cours de l'exercice. Le cash-flow permet de calculer le ratio suivant qui donne une idée de la capacité de la commune à rembourser ses emprunts.
A21: Charges financières (voir "Dette") | B21: =Dette!C40 -> 147717.34 | C21: =Dette!D40 -> 132870.38 | D21: =Dette!E40 -> 135186.77 | E21: =Dette!F40 -> 236030.53 | F21: G
A22: Ratio de couverture des emprunts: | B22: =IF((B16-B14+B21)=0,"",(B18+B21)/(B16-B14+B21)) -> 1.7973405 | C22: =IF((C16-C14+C21)=0,"",(C18+C21)/(C16-C14+C21)) -> 1.2324989 | D22: =IF((D16-D14+D21)=0,"",(D18+D21)/(D16-D14+D21)) -> 1.476946 | E22: =IF((E16-E14+E21)=0,"",(E18+E21)/(E16-E14+E21)) -> 2.9333836 | F22: (CF+G)/(E-C+G)
A24: Le ratio de couverture des emprunts par le cash-flow = (Cash-flow + Charges financières) / (Remboursements d'emprunts – Récupérations de remboursements + Charges financières) Plus ce ratio est supérieur à l'unité plus la commune peut emprunter à l'avenir sans être obligée d'augmenter ses produits ou de diminuer ses charges. Dans ce calcul, les charges financières sont les intérêts des emprunts, et les remboursements leurs amortissements.

Sheet créances
A1: SYNTHESE ANALYTIQUE | C1: Administration communale de: | E1: =Coordonnées!C1 -> YVOIR | G1: Code INS | H1: =Coordonnées!E1 -> 91141
G2: Exercice: | H2: =Coordonnées!E2 -> 2023
A4: 4- Créances à recouvrer au 31/12:
E6: =Dette!C48 -> 2020 | F6: =G6-1 -> 2021 | G6: =H6-1 -> 2022 | H6: =H2 -> 2023
A7: 40001 | B7: Débiteurs taxes,redevances,produits par nature et exercice | E7: 670351.42 | F7: 632980.97 | G7: 686934.91 | H7: 766531.77
A8: 40002 | B8: Débiteurs taxes,redevances,produits par cpte partic. indivi. | E8: 10057.8 | F8: 8362.8 | G8: 11267.8 | H8: 11922.8
A9: 40003 | B9: Débiteurs de produits d'exploitation par nature et exercice | E9: 0 | F9: 0 | G9: 0 | H9: 0
A10: 40004 | B10: Débiteurs de produits d'exploitation par compte parti. indiv | E10: 115597.6 | F10: 157312.65 | G10: 245302.28 | H10: 255060.1
A11: 40700-41700 | B11: Débiteurs douteux | E11: 0 | F11: 0 | G11: 0 | H11: 0
A12: 41100 | B12: TVA récuperable sur dépenses des services assujettis | E12: 39.96 | F12: 455.39 | G12: 0 | H12: 0
A13: 41204 | B13: Impots et taxes additionnels à percevoir | E13: 437443.49 | F13: 433066.08 | G13: 306301.01 | H13: 777448.28
A14: 41301 | B14: Subsides d'investissement en capital,dons et legs | E14: 52250 | F14: 50250 | G14: 48250 | H14: 46250
A15: 41302 | B15: Subsides d'exploitation | E15: 568701.77 | F15: 461902.46 | G15: 594066.82 | H15: 661608.65
A16: 41303 | B16: Emprunts | E16: 58046.47 | F16: 138046.47 | G16: 64537.63 | H16: 64537.63
A17: 41304 | B17: Location-financement | E17: 0 | F17: 0 | G17: 0 | H17: 0
A18: 41306 | B18: Empunts publics | E18: 0 | F18: 0 | G18: 0 | H18: 0
A19: 415 | B19: Intérêts et dividendes | E19: 18529.31 | F19: 18450.75 | G19: 22527.88 | H19: 26939.33
A20: 416 | B20: Débiteurs divers | E20: 6731.62 | F20: 11705.46 | G20: 11175.17 | H20: 14253.69
A21: 425 | B21: Récupération des emprunts et des prêts | E21: 119337.08 | F21: 118135.27 | G21: 106952.55 | H21: 103431.96
A22: 428 | B22: Crédits exigibles | E22: 0 | F22: 0 | G22: 0 | H22: 0
A23: 46101 | B23: Avances accordées et acomptes 0021 | E23: 0 | F23: 0 | G23: 1000 | H23: 0
A24: 46102 | B24: Garanties et cautionnements versés 0021 | E24: 0 | F24: 0 | G24: 0 | H24: 0
A25: 46103 | B25: Acomptes et avances au personnel communal 0021 | E25: 0 | F25: 0 | G25: 0 | H25: 0
A26: 46105 | B26: Récupérations de garanties sur emprunts 0021 | E26: 0 | F26: 0 | G26: 0 | H26: 0
D27: Totaux | E27: =SUM(E7:E26) -> 2057086.5 | F27: =SUM(F7:F26) -> 2030668.3 | G27: =SUM(G7:G26) -> 2098316 | H27: =SUM(H7:H26) -> 2727984.2

Sheet Investissements extraordinaires
A1: SYNTHESE ANALYTIQUE | D1: Administration communale de: | G1: =Coordonnées!C1 -> YVOIR | J1: Code INS | K1: =Coordonnées!E1 -> 91141
J2: Exercice: | K2: =Coordonnées!E2 -> 2023
E4: Evolution durant l'exercice des principales données budgétaires - exercice propre / hors prélèvement
E5: 2-5: Les dépenses extraordinaires d'investissement (groupe économique 91)
E6: Investissements (dépenses engagées dans l'exercice par nature fonctionnelle)
C7: INVESTISSEMENTS | E7: Fonctions | G7: =H7-1 -> 2020 | H7: =I7-1 -> 2021 | I7: =J7-1 -> 2022 | J7: =K2 -> 2023 | K7: Totaux
C8: (groupe économique 91) | E8: 0 Recettes et dépenses générales | G8: 0 | H8: 0 | I8: 0 | J8: 3093.39 | K8: =SUM(G8:J8) -> 3093.39
A9: Années | C9: Fonctions | E9: 1 Administration générale | G9: 60499.76 | H9: 343934.12 | I9: 945583 | J9: 604225.16 | K9: =SUM(G9:J9) -> 1954242
C10: Montant total | E10: 3 Sécurité | G10: 0 | H10: 0 | I10: 0 | J10: 0 | K10: =SUM(G10:J10) -> 0
A11: =A14-1 -> 2020 | B11: Budget Initial | C11: 3143160.4 | E11: 4 Voiries-communications | G11: 840243.26 | H11: 951680.93 | I11: 2080933.5 | J11: 1003736.4 | K11: =SUM(G11:J11) -> 4876594.1
A12: 917813.38 | B12: Compte (engagements) | C12: 1486261 | E12: 5 Industrie - commerce | G12: 0 | H12: 0 | I12: 0 | J12: 195142.1 | K12: =SUM(G12:J12) -> 195142.1
A13: 917813.38 | E13: 6 Sylviculture- Agriculture | G13: 2178 | H13: 0 | I13: 5000 | J13: 150000 | K13: =SUM(G13:J13) -> 157178
A14: =A17-1 -> 2021 | B14: Budget Initial | C14: 3630330 | E14: 70>75 Enseignement | G14: 120874.73 | H14: 197108.82 | I14: 468643.76 | J14: 124763.71 | K14: =SUM(G14:J14) -> 911391.02
A15: 917813.38 | B15: Compte (engagements) | C15: 1724787.5 | E15: 76>77 Culture et sports | G15: 369748.88 | H15: 63752.6 | I15: 1085523.1 | J15: 2766754.8 | K15: =SUM(G15:J15) -> 4285779.4
A16: 917813.38 | E16: 78 Radio, télévision, presse | G16: 0 | H16: 0 | I16: 0 | J16: 0 | K16: =SUM(G16:J16) -> 0
A17: =A20-1 -> 2022 | B17: Budget Initial | C17: 6040740 | E17: 79 Culte | G17: 9498.26 | H17: 14099.72 | I17: 150000 | J17: 8000 | K17: =SUM(G17:J17) -> 181597.98
A18: 917813.38 | B18: Compte (engagements) | C18: 4780255.5 | E18: 80>86 Action Sociale | G18: 0 | H18: 3552.71 | I18: 14500.63 | J18: 0 | K18: =SUM(G18:J18) -> 18053.34
A19: 917813.38 | E19: 87 Santé publique et hygiène | G19: 1668.11 | H19: 5658.57 | I19: 30071.56 | J19: 48000 | K19: =SUM(G19:J19) -> 85398.24
A20: =K2 -> 2023 | B20: Budget Initial | C20: 5318688.3 | E20: 90>92 Logement | G20: 0 | H20: 145000 | I20: 0 | J20: 0 | K20: =SUM(G20:J20) -> 145000
A21: 917813.38 | B21: Compte (engagements) | C21: 4903715.5 | E21: 93 Aménagement du territoire | G21: 81550 | H21: 0 | I21: 0 | J21: 0 | K21: =SUM(G21:J21) -> 81550
A22: 917813.38 | F22: Totaux | G22: =SUM(G8:G21) -> 1486261 | H22: =SUM(H8:H21) -> 1724787.5 | I22: =SUM(I8:I21) -> 4780255.5 | J22: =SUM(J8:J21) -> 4903715.5 | K22: =SUM(K8:K21) -> 12895020
A23: Synthèse sur 4 ans: | B23: Budget Initial | C23: =C20+C17+C14+C11 -> 18132919
A24: 917813.38 | B24: Compte (engagements) | C24: =C21+C18+C15+C12 -> 12895020
A25: 917813.38
A27: =D9 -> 0 | B27: =D24 -> 0
A28: =E7 -> Fonctions | B28: =E24 -> 0
A29: =F7 -> 0 | B29: =F24 -> 0
A30: =G7 -> 2020 | B30: =G24 -> 0
A31: =H7 -> 2021 | B31: =H24 -> 0
A32: =I7 -> 2022 | B32: =I24 -> 0
C34: 2-6: Le financement des investissements:
C36: =D36-1 -> 2020 | D36: =E36-1 -> 2021 | E36: =F36-1 -> 2022 | F36: =K2 -> 2023 | G36: Totaux
A37: Emprunts | C37: 154923.53 | D37: 1017539.1 | E37: 3148766 | F37: 174652.03 | G37: =SUM(C37:F37) -> 4495880.6
A38: Subsides | C38: 496567.68 | D38: 167010 | E38: 786030.33 | F38: 1499808.9 | G38: =SUM(C38:F38) -> 2949416.9
A39: Auto-financement | C39: 924651.6 | D39: 1447007.2 | E39: 1284105 | F39: 909986.11 | G39: =SUM(C39:F39) -> 4565749.9
A40: Recettes hors Boni | C40: 1576142.8 | D40: 2631556.3 | E40: 5218901.2 | F40: 2584447.1 | G40: =SUM(G37:G39) -> 12011047
A42: Taux d'auto-financement: | C42: =IF(C40=0,"",C39/C40) -> 0.58665471 | D42: =IF(D40=0,"",D39/D40) -> 0.54986748 | E42: =IF(E40=0,"",E39/E40) -> 0.24604891 | F42: =IF(F40=0,"",F39/F40) -> 0.35210089 | G42: =IF(G40=0,"",G39/G40) -> 0.3801292
E69: 2-7: Les dépenses extraordinaires d'investissement (groupe économique 91)
E70: Investissements , dépenses imputées dans l'exercice par nature fonctionnelle
C71: INVESTISSEMENTS | E71: Fonctions | G71: =H71-1 -> 2020 | H71: =I71-1 -> 2021 | I71: =J71-1 -> 2022 | J71: =K2 -> 2023 | K71: Totaux
...

Sheet Dette
A1: SYNTHESE ANALYTIQUE | C1: Administration communale de: | E1: =Coordonnées!C1 -> YVOIR | G1: Code INS | H1: =Coordonnées!E1 -> 91141
G2: Exercice: | H2: =Coordonnées!E2 -> 2023
B4: 5 | C4: Etat de l'endettement de la commune
C5: 5-1 La dette financière
B6: Exercices: | C6: =D6-1 -> 2020 | D6: =E6-1 -> 2021 | E6: =F6-1 -> 2022 | F6: =H2 -> 2023
A7: 1. | B7: Dette part propre
B8: Encours au 31/12 | C8: 7419799.4 | D8: 7786808.3 | E8: 10155631 | F8: 9593507.5
B9: Remboursements | C9: 685282.39 | D9: 659894.46 | E9: 652552.78 | F9: 763845.08
B10: Intérêts | C10: 147717.34 | D10: 132870.38 | E10: 135186.77 | F10: 236030.53
B11: Charges totales | C11: =SUM(C9:C10) -> 832999.73 | D11: =SUM(D9:D10) -> 792764.84 | E11: =SUM(E9:E10) -> 787739.55 | F11: =SUM(F9:F10) -> 999875.61
B12: Durée théorique moy de remboursement | C12: =IF(C9<>0,C8/C9,"") -> 10.82736 | D12: =IF(D9<>0,D8/D9,"") -> 11.800081 | E12: =IF(E9<>0,E8/E9,"") -> 15.562927 | F12: =IF(F9<>0,F8/F9,"") -> 12.559494
A13: 2. | B13: Dette d'assainissement (CRAC)
B14: Encours au 31/12 | C14: 495078.74 | D14: 450849.26 | E14: 405240.34 | F14: 358208.96
A15: 2.a. | B15: Part communale
B16: Remboursements | C16: 0 | D16: 0 | E16: 0 | F16: 0
B17: Intérêts | C17: 0 | D17: 0 | E17: 0 | F17: 0
B18: Charges totales | C18: =SUM(C16:C17) -> 0 | D18: =SUM(D16:D17) -> 0 | E18: =SUM(E16:E17) -> 0 | F18: =SUM(F16:F17) -> 0
A19: 2.b. | B19: Part régionale (CRAC)
B20: Remboursements | C20: 0 | D20: 0 | E20: 0 | F20: 0
B21: Intérêts
B22: Charges totales | C22: =SUM(C20:C21) -> 0 | D22: =SUM(D20:D21) -> 0 | E22: =SUM(E20:E21) -> 0 | F22: =SUM(F20:F21) -> 0
A24: 3. | B24: Dette Part Etat
B25: Encours au 31/12 | C25: 935157.07 | D25: 851768.32 | E25: 767723.82 | F25: 662244.01
B26: Remboursements | C26: 87185.78 | D26: 82748.3 | E26: 83388.75 | F26: 83177.37
B27: Intérêts | C27: 17333.67 | D27: 15331.36 | E27: 20401.93 | F27: 23685.28
B28: Charges totales | C28: =C26+C27 -> 104519.45 | D28: =D26+D27 -> 98079.66 | E28: =E26+E27 -> 103790.68 | F28: =F26+F27 -> 106862.65
A30: 4. | B30: Dette pour Tiers
B31: Encours au 31/12 | C31: 0 | D31: 0 | E31: 0 | F31: 0
B32: Remboursements | C32: 0 | D32: 0 | E32: 0 | F32: 0
B33: Intérêts | C33: 0 | D33: 0 | E33: 0 | F33: 0
B34: Charges totales | C34: =C32+C33 -> 0 | D34: =D32+D33 -> 0 | E34: =E32+E33 -> 0 | F34: =F32+F33 -> 0
A36: 5. | B36: Dette garantie par la commune
B37: Encours
B39: Encours part communale (=1+2.a) | C39: =C11+C18 -> 832999.73 | D39: =D11+D18 -> 792764.84 | E39: =E11+E18 -> 787739.55 | F39: =F11+F18 -> 999875.61
B40: Total des intérêts supportés par la commune | C40: =C10+C17 -> 147717.34 | D40: =D10+D17 -> 132870.38 | E40: =E10+E17 -> 135186.77 | F40: =F10+F17 -> 236030.53
A44: SYNTHESE ANALYTIQUE | C44: Administration communale de: | E44: =E1 -> YVOIR | G44: Code INS | H44: =H1 -> 91141
G45: Exercice: | H45: =H2 -> 2023
C47: 5-2 La dette à court terme: (fournisseurs, tiers , …)
B48: =B6 -> Exercices: | C48: =C6 -> 2020 | D48: =D6 -> 2021 | E48: =E6 -> 2022 | F48: =F6 -> 2023
A49: 44000 | B49: Fournisseurs | C49: 457525.31 | D49: 425519.1 | E49: 618504.97 | F49: 842721.54
...

Sheet Réserves et provisions
A1: SYNTHESE ANALYTIQUE | B1: Administration communale de: | D1: =Coordonnées!C1 -> YVOIR | F1: Code INS | G1: =Coordonnées!E1 -> 91141
F2: Exercice: | G2: =Coordonnées!E2 -> 2023
A4: 7 Etat des réserves et des provisions
A7: Fonds de réserve ordinaire | B7: Solde Initial | C7: Alimentation | D7: Utilisation | E7: Solde 31/12
A8: =A9-1 -> 2020 | B8: =E8+D8-C8 -> 1506302.3 | C8: 0 | D8: 1506302.3 | E8: 0
A9: =A10-1 -> 2021 | B9: =E9+D9-C9 -> 0 | C9: 0 | D9: 0 | E9: 0
A10: =A11-1 -> 2022 | B10: =E10+D10-C10 -> 0 | C10: 1080491.8 | D10: 1010124.8 | E10: 70367.05
A11: =G2 -> 2023 | B11: =E11+D11-C11 -> 70367.05 | C11: 0 | D11: 70367.05 | E11: 0
A13: Fonds de réserve extraordinaire | B13: Solde Initial | C13: Alimentation | D13: Utilisation | E13: Solde 31/12
A14: =A15-1 -> 2020 | B14: =E14+D14-C14 -> 1750446.4 | C14: 551234.28 | D14: 786688.01 | E14: 1514992.7
A15: =A16-1 -> 2021 | B15: =E15+D15-C15 -> 1514992.7 | C15: 1277446.5 | D15: 1419673.5 | E15: 1372765.8
A16: =A17-1 -> 2022 | B16: =E16+D16-C16 -> 1372765.8 | C16: 767973.37 | D16: 1253486.8 | E16: 887252.31
A17: =G2 -> 2023 | B17: =E17+D17-C17 -> 887252.31 | C17: 1724251.1 | D17: 630159.77 | E17: 1981343.6
A19: Provisions pour risques et charges: | B19: Solde Initial | C19: Alimentation | D19: Utilisation | E19: Solde 31/12
A20: =A21-1 -> 2020 | B20: =E20+D20-C20 -> 108875 | C20: 1451302.3 | D20: 0 | E20: 1560177.3
A21: =A22-1 -> 2021 | B21: =E21+D21-C21 -> 1560177.3 | C21: 115000 | D21: 0 | E21: 1675177.3
A22: =A23-1 -> 2022 | B22: =E22+D22-C22 -> 1675177.3 | C22: 830602.65 | D22: 0 | E22: 2505779.9
A23: =G2 -> 2023 | B23: =E23+D23-C23 -> 2505779.9 | C23: 0 | D23: 0 | E23: 2505779.9

Sheet Trésorerie
A1: SYNTHESE ANALYTIQUE | B1: Administration communale de: | D1: =Coordonnées!C1 -> YVOIR | F1: Code INS | G1: =Coordonnées!E1 -> 91141
F2: Exercice: | G2: =Coordonnées!E2 -> 2023
A3: 6-1 Etat et rendement de la trésorerie
A5: Etat de la trésorerie au 31/12 | B5: =C5-1 -> 2020 | C5: =D5-1 -> 2021 | D5: =E5-1 -> 2022 | E5: =G2 -> 2023
A6: Trésorerie courante | B6: 4553210.6 | C6: 4166288.5 | D6: 6811864.4 | E6: 5568547.8
A7: Trésorerie des emprunts | B7: 55221.29 | C7: 429828.13 | D7: 112987.12 | E7: 0
A8: Crédit de trésorerie court terme
A9: Totaux: | B9: =SUM(B6:B8) -> 4608431.9 | C9: =SUM(C6:C8) -> 4596116.6 | D9: =SUM(D6:D8) -> 6924851.5 | E9: =SUM(E6:E8) -> 5568547.8
A10: Intérêts et produits(total au 31/12)
A11: Intérêts débiteurs | B11: 574.02 | C11: 0 | D11: 0 | E11: 0
A12: Intérêts créditeurs | B12: 0 | C12: -85.5 | D12: -514.22 | E12: 0
A13: Produits des placements | B13: 21.99 | C13: 219.39 | D13: 948.69 | E13: 40412.97
A14: Précomptes et taxes sur placements | B14: 6.59 | C14: 65.82 | D14: 284.61 | E14: 10236.89
A15: Rendement net de la trésorerie | B15: =B12-B11-B14+B13 -> -558.62 | C15: =C12-C11-C14+C13 -> 68.07 | D15: =D12-D11-D14+D13 -> 149.86 | E15: =E12-E11-E14+E13 -> 30176.08
A17: Volume total des placement > à 1 an:
A18: Fonds placés pour dons et legs:

Sheet Trésorerie 2
A1: SYNTHESE ANALYTIQUE | B1: Administration communale de: | D1: =Coordonnées!C1 -> YVOIR | F1: Code INS | G1: =Coordonnées!E1 -> 91141
F2: Exercice: | G2: =Coordonnées!E2 -> 2023
A3: 6-2 Evolution de la trésorerie au cours du dernier exercice
A5: Solde de trésorerie courante à l'issue de chaque mois (sur base des situations mensuelles de caisse)
B6: Solde | C6: Recettes | D6: Dépenses | E6: Transferts
A7: 1er janvier | B7: 4268852
A8: janvier | B8: 3414887.5 | C8: 1903438.7 | D8: 2057403.2 | E8: -700000
A9: février | B9: 3475033 | C9: 1506105.4 | D9: 1245959.9 | E9: -200000
A10: mars | B10: 3054496 | C10: 759397.08 | D10: 1192921.2 | E10: 12987.12
A11: avril | B11: 2906919.8 | C11: 1181129.9 | D11: 1483041.1 | E11: 154335
A12: mai | B12: 3147659.9 | C12: 1574604.5 | D12: 1133864.4 | E12: -200000
A13: juin | B13: 2681917 | C13: 442273.55 | D13: 1308016.4 | E13: 400000
A14: juillet | B14: 2659393 | C14: 502095.59 | D14: 1528779.6 | E14: 1004160
A15: août | B15: 2332564.5 | C15: 723835.04 | D15: 1054598.5 | E15: 3935
A16: septembre | B16: 1809291.7 | C16: 1310577.2 | D16: 1583850 | E16: -250000
A17: octobre | B17: 2175144.7 | C17: 921977.29 | D17: 1262094.2 | E17: 705970
A18: novembre | B18: 2001398.2 | C18: 1471661.2 | D18: 1145407.8 | E18: -500000
A19: décembre | B19: 1699502.4 | C19: 3291631.7 | D19: 1998097.4 | E19: -1595430
B20: Volume annuel: | C20: =SUM(C8:C19) -> 15588727 | D20: =SUM(D8:D19) -> 16994034 | E20: =SUM(E8:E19) -> -1164042.9
F42: =B6 -> Solde
E43: =A7 -> 1er janvier | F43: =B7 -> 4268852
E44: =A8 -> janvier | F44: =B8 -> 3414887.5
E45: =A9 -> février | F45: =B9 -> 3475033
E46: =A10 -> mars | F46: =B10 -> 3054496
E47: =A11 -> avril | F47: =B11 -> 2906919.8
E48: =A12 -> mai | F48: =B12 -> 3147659.9
E49: =A13 -> juin | F49: =B13 -> 2681917
E50: =A14 -> juillet | F50: =B14 -> 2659393
E51: =A15 -> août | F51: =B15 -> 2332564.5
E52: =A16 -> septembre | F52: =B16 -> 1809291.7
E53: =A17 -> octobre | F53: =B17 -> 2175144.7
E54: =A18 -> novembre | F54: =B18 -> 2001398.2
E55: =A19 -> décembre | F55: =B19 -> 1699502.4

Sheet Actifs immobilisés
A1: SYNTHESE ANALYTIQUE | B1: Administration communale de: | E1: =Coordonnées!C1 -> YVOIR | G1: Code INS | H1: =Coordonnées!E1 -> 91141
G2: Exercice: | H2: =Coordonnées!E2 -> 2023
A4: 8 Tableau synthétique des mutations de l'actif immobilisé | E4: Mutations en + Acquisitions et investissements | F4: Mutations en - Ventes | G4: Réévaluations | H4: Amortissements
J5: EVALUATION DES OPERATIONS DE L'EXERCICE
C6: =D6-1 -> 2022 | D6: =H2 -> 2023
A7: I .Immobilisations incorporelles | B7: 21 | C7: 0 | D7: 0 | E7: 0 | F7: 0 | G7: 0 | H7: 0 | J7: L'évaluation des opérations de l'exercice a été réalisée conformément à la législation
A8: II.Immobilisations corporelles | B8: 22/26 | C8: =C9+C15+C18 -> 54566177 | D8: =D9+D15+D18 -> 58631309 | E8: =E9+E15+E18 -> 4013360.5 | F8: =F9+F15+F18 -> 51720.82 | G8: =G9+G15+G18 -> 2177720.7 | H8: =H9+H15+H18 -> 2074228 | J8: en vigueur.
A9: Patrimoine immobilier | C9: =SUM(C10:C14) -> 47988129 | D9: =SUM(D10:D14) -> 48343917 | E9: =SUM(E10:E14) -> 64393.6 | F9: =SUM(F10:F14) -> 26359.65 | G9: =SUM(G10:G14) -> 2177720.7 | H9: =SUM(H10:H14) -> 1859966.2
A10: A. Terres et terrains non bâtis .......................................................................................................... | B10: 220 | C10: 6568672.3 | D10: 6579646 | E10: 16414.64 | F10: 3745.06 | G10: 16443.96 | H10: 18139.83 | J10: Il convient notamment de noter que les réévaluations ont été établies :
A11: B. Constructions et leurs terrains ........................................................................................................... | B11: 221 | C11: 28045850 | D11: 28893022 | E11: 0 | F11: 0 | G11: 2136792.9 | H11: 1289620.9
A12: C. Voiries .......................................................................................................... | B12: 223 | C12: 13139805 | D12: 12649204 | E12: 47978.96 | F12: 22614.59 | G12: 24482.02 | H12: 540447.8 | J12: - pour les terrains, sur base du rendement du centime additionnel. Celui-ci est de
A13: D. Ouvrages d'art .......................................................................................................... | B13: 224 | C13: 233401.85 | D13: 221644.12 | E13: 0 | F13: 0 | G13: 0 | H13: 11757.73 | J13: 483.89 | K13: pour l'exercice en cours contre | M13: 481.74 | N13: pour l'exercice précédent.
A14: E. Cours et plans d'eau .......................................................................................................... | B14: 226 | C14: 399.53 | D14: 401.31 | E14: 0 | F14: 0 | G14: 1.78 | H14: 0
A15: Patrimoine mobilier | C15: =SUM(C16:C17) -> 772070.79 | D15: =SUM(D16:D17) -> 738068.66 | E15: =SUM(E16:E17) -> 205620.8 | F15: =SUM(F16:F17) -> 25361.17 | G15: =SUM(G16:G17) -> 0 | H15: =SUM(H16:H17) -> 214261.76 | J15: Taux du réajustement
A16: F. Mobilier, matériel, équipements et sign. routière.......................................................................................................... | B16: 230/3 | C16: 729673.98 | D16: 692889.45 | E16: 202838.4 | F16: 25361.17 | G16: 0 | H16: 214261.76 | J16: C.Ad. Ex. N - C.Ad. Ex N-1/ | L16: =IF(M13=0,"",(J13-M13)/M13) -> 0.0044629883
A17: G. Patrimoine artistique et mobilier divers .......................................................................................................... | B17: 234 | C17: 42396.81 | D17: 45179.21 | E17: 2782.4 | F17: 0 | G17: 0 | H17: 0 | J17: C.Ad. Ex N-1
A18: Autres immobilisations | C18: =SUM(C19:C21) -> 5805977.5 | D18: =SUM(D19:D21) -> 9549323.6 | E18: =SUM(E19:E21) -> 3743346.1 | F18: =SUM(F19:F21) -> 0 | G18: =SUM(G19:G21) -> 0 | H18: =SUM(H19:H21) -> 0
A19: H. Immobilisations en cours d'exécution ........................................................................................................... | B19: 24 | C19: 5805977.5 | D19: 9549323.6 | E19: 3743346.1 | F19: 0 | G19: 0 | H19: 0 | J19: - pour les bâtiments, sur base de l'indice ABEX. Celui-ci est de | N19: 1032 | O19: pour l'exercice en
A20: I. Droits réels d'emphythéoses et superficies .......................................................................................................... | B20: 261 | C20: 0 | D20: 0 | E20: 0 | F20: 0 | G20: 0 | H20: 0 | J20: cours contre | K20: 954 | L20: pour l'exercice précédent.
A21: J. Immobilisations en location-financement .......................................................................................................... | B21: 262/3 | C21: 0 | D21: 0 | E21: 0 | F21: 0 | G21: 0 | H21: 0
A22: III.Subsides d'investissements accordés | B22: 25 | C22: =SUM(C23:C26) -> 128390.37 | D22: =SUM(D23:D26) -> 100630.69 | E22: =SUM(E23:E26) -> 3630 | F22: =SUM(F23:F26) -> 0 | G22: =SUM(G23:G26) -> 0 | H22: =SUM(H23:H26) -> 31389.68 | J22: Taux du réajustement
A23: A. Aux entreprises privées .......................................................................................................... | B23: 251 | C23: 2000 | D23: 1000 | E23: 0 | F23: 0 | G23: 0 | H23: 1000 | J23: ABEX Ex. N - ABEX Ex N-1 | L23: =IF(K20=0,"",(N19-K20)/K20) -> 0.081761006
A24: B. Aux ménages, ASBL et autres organismes .......................................................................................................... | B24: 252 | C24: 116950.77 | D24: 93304.72 | E24: 3630 | F24: 0 | G24: 0 | H24: 27276.05 | J24: ABEX Ex N-1
A25: C. A l'Autorité supérieure .......................................................................................................... | B25: 254 | C25: 0 | D25: 0 | E25: 0 | F25: 0 | G25: 0 | H25: 0
A26: D. Aux autres pouvoirs publics .......................................................................................................... | B26: 256 | C26: 9439.6 | D26: 6325.97 | E26: 0 | F26: 0 | G26: 0 | H26: 3113.63 | J26: Si il a été fait exception aux règles légales , veuillez en détailler la raison ci-après:
A27: IV.Promesses de subsides et prêts accordés | B27: 27 | C27: =SUM(C28:C29) -> 2014149.9 | D27: =SUM(D28:D29) -> 2503018.1 | E27: =SUM(E28:E29) -> 488868.22 | F27: =SUM(F28:F29) -> 0 | G27: =SUM(G28:G29) -> 0 | H27: =SUM(H28:H29) -> 0
A28: A. Promesse de subsides à recevoir........................................................................................................... | B28: 270/4 | C28: 2010149.9 | D28: 2501018.1 | E28: 490868.22 | F28: 0 | G28: 0 | H28: 0
A29: B. Prêts accordés .......................................................................................................... | B29: 275 | C29: 4000 | D29: 2000 | E29: -2000 | F29: 0 | G29: 0 | H29: 0
A30: V.Autres actifs financiers | B30: 28 | C30: =SUM(C31:C32) -> 4082305.5 | D30: =SUM(D31:D32) -> 4139361.9 | E30: =SUM(E31:E32) -> 57056.41 | F30: =SUM(F31:F32) -> 0 | G30: =SUM(G31:G32) -> 0 | H30: =SUM(H31:H32) -> 0
A31: A. Participations et titres à revenus fixes .......................................................................................................... | B31: 282/5 | C31: 4081900.5 | D31: 4138956.9 | E31: 57056.41 | F31: 0 | G31: 0 | H31: 0
A32: B. Cautionnements versés à plus d'un an .......................................................................................................... | B32: 288 | C32: 405 | D32: 405 | E32: 0 | F32: 0 | G32: 0 | H32: 0
B33: Totaux | C33: =C7+C9+C15+C18+C22+C27+C30 -> 60791023 | D33: =D7+D9+D15+D18+D22+D27+D30 -> 65374320 | E33: =E7+E9+E15+E18+E22+E27+E30 -> 4562915.2 | F33: =F7+F9+F15+F18+F22+F27+F30 -> 51720.82 | G33: =G7+G9+G15+G18+G22+G27+G30 -> 2177720.7 | H33: =H7+H9+H15+H18+H22+H27+H30 -> 2105617.7
C34: Variation: | D34: =D33-C33 -> 4583297.3 | E34: =E33-F33+G33-H33 -> 4583297.3 | F34: <total des mutations,réévaluations et amortissements

Sheet Tiers subsidiés
A1: SYNTHESE ANALYTIQUE | C1: Administration communale de: | E1: =Coordonnées!C1 -> YVOIR | F1: Code INS | G1: =Coordonnées!E1 -> 91141
F2: Exercice: | G2: =Coordonnées!E2 -> 2023
B3: 10- Récapitulatif des tiers subsidiés
C4: Montants des subsides accordés
A5: C.généraux: | B5: Catégories de tiers | C5: =D5-1 -> 2020 | D5: =E5-1 -> 2021 | E5: =F5-1 -> 2022 | F5: =G2 -> 2023
A6: 63110 | B6: Subventions d'exploitation aux entreprises en intérêts | C6: 0 | D6: 0 | E6: 0 | F6: 0
A7: 63121 | B7: Subventions directes d'exploitation aux entreprises | C7: 0 | D7: 0 | E7: 0 | F7: 0
A8: 63122 | B8: Subventions indirectes d'exploitation aux entreprises | C8: 0 | D8: 0 | E8: 0 | F8: 0
A9: 63211 | B9: Primes et subventions directes aux ménages | C9: 10650 | D9: 25364.52 | E9: 8620 | F9: 8386.22
A10: 63212 | B10: Primes et subventions indirectes versées aux ménages | C10: 124437.77 | D10: 121563.66 | E10: 131426.76 | F10: 136317.33
A11: 63411 | B11: Subventions à l'Etat pour frais fonct.de l'enseignement | C11: 0 | D11: 0 | E11: 0 | F11: 0
A12: 63412 | B12: Contr.fr.de fonct.et rémunérations supportées par l'Etat | C12: 107227 | D12: 107273.12 | E12: 110704.7 | F12: 120262.71
A13: 63611 | B13: Contributions dans rémunération et pension de l'enseignement | C13: 0 | D13: 0 | E13: 0 | F13: 0
A14: 63612 | B14: Contributions aux frais de fonctionnement de l'enseignement | C14: 0 | D14: 0 | E14: 0 | F14: 0
A15: 63613 | B15: Contributions aux charges financières des pouvoirs publics | C15: 66320.18 | D15: 66320.18 | E15: 66320.18 | F15: 66320.18
A16: 63617 | B16: Contributions aux frais fonct.des autres pouvoirs publics | C16: 2963260.8 | D16: 3019812.2 | E16: 2948955.2 | F16: 2949064.3
A17: 63618 | B17: Contributions dans le déficit des hopitaux publics | C17: 0 | D17: 0 | E17: 0 | F17: 0
B18: Total | C18: =SUM(C6:C17) -> 3271895.7 | D18: =SUM(D6:D17) -> 3340333.7 | E18: =SUM(E6:E17) -> 3266026.9 | F18: =SUM(F6:F17) -> 3280350.7
A36: SYNTHESE ANALYTIQUE | B36: Annexe au point 10: | C36: =C1 -> Administration communale de: | E36: =E1 -> YVOIR | F36: =F1 -> Code INS | G36: =G1 -> 91141
F37: =F2 -> Exercice: | G37: =G2 -> 2023
B39: Organismes et tiers ayant bénéficié d'un subside ou transfert de plus de : | D39: 10000
B41: Noms: | C41: Compte Particulier | D41: Montants octroyés au 31/12
B42: CPAS YVOIR | C42: 002100000010009 | D42: 1131674.2
B43: ZONE POLICE HAUTE-MEUSE | C43: 002100000010143 | D43: 782184.96
B44: BEP ENVIRONNEMENT | C44: 002100000000010 | D44: 551030.18
B45: ZONE DE SECOURS NAMUR SUD DINAPHI | C45: 002100000000303 | D45: 372507.87
B46: SPW - REGION WALLONNE | C46: 002100000090070 | D46: 186582.89
B47: FABRIQUE EGLISE YVOIR/HOUX | C47: 002100000010019 | D47: 24738.09
B48: INASEP | C48: 002100000010020 | D48: 24240.46
B49: SYNDICAT INITIATIVE YVOIR | C49: 002100000060005 | D49: 19000
B50: FABRIQUE EGLISE PURNODE | C50: 002100000010017 | D50: 16179.11
B51: VILLE DE DINANT | C51: 002100000010041 | D51: 14236.77
B52: FABRIQUE EGLISE MONT | C52: 002100000010016 | D52: 13423.89
B53: FABRIQUE EGLISE DURNAL | C53: 002100000010012 | D53: 12988
... B55: MAISON DU TOURISME HAUTE MEUSE | C55: 002100000000016 | D55: 10995.89

Sheet Principaux fournisseurs
A1: SYNTHESE ANALYTIQUE | E1: =Coordonnées!C1 -> YVOIR | G1: Code INS | H1: =Coordonnées!E1 -> 91141
G2: Exercice: | H2: =Coordonnées!E2 -> 2023
A4: 11. Les principaux fournisseurs
A6: Liste des fourniseurs dont le total des commandes a atteint au moins: | D6: 10000 | E6: au 31/12
A8: Noms: | C8: Total des commandes | D8: (totalisation sur base des comptes particuliers)
A9: KAISER CONSTRUCT | B9: 0721487780 | C9: 1462832.6
A10: NONET | B10: 0417072581 | C10: 288265.82
A11: LOISEAU INFRA | B11: 0765916354 | C11: 205618.65
A12: ETHIAS | B12: 0404484654 | C12: 175856.82
A13: LRARCHITECTES | B13: 0888287990 | C13: 163850.57
A14: TOTALENERGIES POWER _ GAS BELGIUM | B14: 0859655570 | C14: 131006.87
A15: MICROLAND | B15: 0810839529 | C15: 126000.68
A16: EXPLOTECH | B16: 0438567385 | C16: 117442.21
A17: INASEP | B17: 0218735790 | C17: 100268.85
A18: ORES | B18: 0543696579 | C18: 99763.92
A19: EDF LUMINUS | B19: 0471811661 | C19: 97772.6
A20: ALLYSSMAT | B20: 0839435723 | C20: 95139.9
... A76: HAUMONT-SCHOLASSE _ PARTNERS | B76: 000000000000283 | C76: 10440.69

Sheet ratios
A1: SYNTHESE ANALYTIQUE | B1: Administration communale de: | D1: =Coordonnées!C1 -> YVOIR | E1: Code INS | F1: =Coordonnées!E1 -> 91141
E2: Exercice: | F2: =Coordonnées!E2 -> 2023
A4: 12: Indicateurs et ratios
A5: Evolution du chiffre de la population: | B5: ='Carte Identité'!$C$12 -> 9107 | C5: ='Carte Identité'!$C$13 -> 9177 | D5: ='Carte Identité'!$C$14 -> 9232 | E5: ='Carte Identité'!$C$15 -> 9006
A6: Ratios budgétaires: | B6: =C6-1 -> 2020 | C6: =D6-1 -> 2021 | D6: =E6-1 -> 2022 | E6: =F2 -> 2023
A7: Résultat budgétaire exercice propre par habitant | B7: =IF(B5=0,"",'Résultat Budgétaire'!B15/B5) -> 81.465742 | C7: =IF(C5=0,"",'Résultat Budgétaire'!C15/C5) -> 4.4729694 | D7: =IF(D5=0,"",'Résultat Budgétaire'!D15/D5) -> 35.027922 | E7: =IF(E5=0,"",'Résultat Budgétaire'!E15/E5) -> 192.62092
A8: Résultat budgétaire global par habitant | B8: =IF(B5=0,"",'Résultat Budgétaire'!B17/B5) -> 172.14321 | C8: =IF(C5=0,"",'Résultat Budgétaire'!C17/C5) -> 104.26616 | D8: =IF(D5=0,"",'Résultat Budgétaire'!D17/D5) -> 30.969717 | E8: =IF(E5=0,"",'Résultat Budgétaire'!E17/E5) -> 145.28299
A9: Ratios sur recettes | B9: Recettes budgétaires
A10: Recettes ordinaires par habitant | B10: =IF(B5=0,"",'Recettes budgétaires ordinaires'!B54/B5) -> 1406.968 | C10: =IF(C5=0,"",'Recettes budgétaires ordinaires'!C54/C5) -> 1223.3409 | D10: =IF(D5=0,"",'Recettes budgétaires ordinaires'!D54/D5) -> 1397.5056 | E10: =IF(E5=0,"",'Recettes budgétaires ordinaires'!E54/E5) -> 1595.1436
A11: Recettes de prestation par habitant | B11: =IF(B5=0,"",'Recettes budgétaires ordinaires'!B14/B5) -> 67.134916 | C11: =IF(C5=0,"",'Recettes budgétaires ordinaires'!C14/C5) -> 64.438379 | D11: =IF(D5=0,"",'Recettes budgétaires ordinaires'!D14/D5) -> 82.383957 | E11: =IF(E5=0,"",'Recettes budgétaires ordinaires'!E14/E5) -> 93.574277
A12: Recettes de transfert par habitant | B12: =IF(B5=0,"",'Recettes budgétaires ordinaires'!B43/B5) -> 1156.8732 | C12: =IF(C5=0,"",'Recettes budgétaires ordinaires'!C43/C5) -> 1141.426 | D12: =IF(D5=0,"",'Recettes budgétaires ordinaires'!D43/D5) -> 1188.4835 | E12: =IF(E5=0,"",'Recettes budgétaires ordinaires'!E43/E5) -> 1472.8361
A13: Recettes de dette par habitant | B13: =IF(B5=0,"",'Recettes budgétaires ordinaires'!B52/B5) -> 17.559439 | C13: =IF(C5=0,"",'Recettes budgétaires ordinaires'!C52/C5) -> 17.476536 | D13: =IF(D5=0,"",'Recettes budgétaires ordinaires'!D52/D5) -> 17.222571 | E13: =IF(E5=0,"",'Recettes budgétaires ordinaires'!E52/E5) -> 20.91983
